BEGIN:VCALENDAR
VERSION:2.0
PRODID:-//hacksw/handcal//NONSGML v1.0//EN
BEGIN:VEVENT
SUMMARY:Tinazzi-La Destrousse-Peypin-Cadolive-La Diote-Greasque-Fuveau-Rousset-Trets-Le juillet-Roquevaire-Tinazzi
UID:ab5e305a-f7dd-4edd-b8c5-25c411af5e4b
DTSTART:20260520T220000Z
DTEND:20260521T220000Z
LOCATION:Localisation   
CATEGORIES:Sportif
STATUS:
URL;VALUE=URI:https://www.pedalejoyeuse.fr/evenements/2026/05/21/tinazzi-la-destrousse-peypin-cadolive-la-diote-greasque-fuveau-rousset-trets-le-juillet-roquevaire-tinazzi-2443823
END:VEVENT
END:VCALENDAR
