BEGIN:VCALENDAR
VERSION:2.0
PRODID:-//hacksw/handcal//NONSGML v1.0//EN
BEGIN:VEVENT
SUMMARY:Tinazzi  Aubagne  Roquevaire - La Bouilladisse - Les Boyers -   Moulin de Redon -  St Zacharie  Auriol  Roquevaire - Tinazzi. 60 Km(Parcours bis) Tinazzi  Aubagne  Roquevaire - La Bouilladisse - Les Boyers -   Caf  Moulin de Redon - Auriol  Roquevaire -
UID:8e66c926-9c3a-45d6-ae97-7a8d5c78ac2d
DTSTART:20260423T063000Z
DTEND:20260423T220000Z
LOCATION:Localisation   
CATEGORIES:Sportif
STATUS:
URL;VALUE=URI:https://www.pedalejoyeuse.fr/evenements/2026/04/23/tinazzi-aubagne-roquevaire-la-bouilladisse-les-boyers-moulin-de-redon-st-zacharie-auriol-roquevaire-tinazzi-60-kmparcours-bis-tinazzi-aubagne-roquevaire-la-bouilladisse-les-boyers-caf-moulin-de-redon-auriol-roquevaire-2429837
END:VEVENT
END:VCALENDAR
