BEGIN:VCALENDAR
VERSION:2.0
PRODID:-//hacksw/handcal//NONSGML v1.0//EN
BEGIN:VEVENT
SUMMARY:Tinazzi  Aubagne  Roquevaire  Auriol  Moulin de Redon  St Zacharie  La Sambuc  Rougiers  Retour Tinazzi 70 Km - (Parcours bis) Arrt caf  St Zacharie ou Nans et retour 50 km
UID:1d8396e2-9382-4a00-b63c-c3034579f6da
DTSTART:20260421T063000Z
DTEND:20260421T220000Z
LOCATION:Localisation   
CATEGORIES:Sportif
STATUS:
URL;VALUE=URI:https://www.pedalejoyeuse.fr/evenements/2026/04/21/tinazzi-aubagne-roquevaire-auriol-moulin-de-redon-st-zacharie-la-sambuc-rougiers-retour-tinazzi-70-km-parcours-bis-arrt-caf-st-zacharie-ou-nans-et-retour-50-km-2429836
END:VEVENT
END:VCALENDAR
