BEGIN:VCALENDAR
VERSION:2.0
PRODID:-//hacksw/handcal//NONSGML v1.0//EN
BEGIN:VEVENT
SUMMARY:Tinazzi  Gemenos  Col de l'Ange  Le Camp  Signes  Le Camp  La Begude  Caunet  Gemenos  Tinazzi 75 Km  - (Parcours bis) Le Camp La Begude  Caunet  Col de l'Ange  Gemenos  Tinazzi 55 Km
UID:a3ef6947-e47e-4abc-a365-d37c977f2b68
DTSTART:20260418T063000Z
DTEND:20260418T220000Z
LOCATION:Localisation   
CATEGORIES:Sportif
STATUS:
URL;VALUE=URI:https://www.pedalejoyeuse.fr/evenements/2026/04/18/tinazzi-gemenos-col-de-lange-le-camp-signes-le-camp-la-begude-caunet-gemenos-tinazzi-75-km-parcours-bis-le-camp-la-begude-caunet-col-de-lange-gemenos-tinazzi-55-km-2429835
END:VEVENT
END:VCALENDAR
