BEGIN:VCALENDAR
VERSION:2.0
PRODID:-//hacksw/handcal//NONSGML v1.0//EN
BEGIN:VEVENT
SUMMARY:Tinazzi  Gemenos  Col de l'Ange  Caunet  Ceyreste  La Ciotat  Belle Fille  Les Fours  Chaux La Bedoule  Aubagne  Tinazzi 65Km -                                                                                        (Parcours bis) Col de lAnge  Fond Blanch
UID:be036a73-b689-47af-8a51-8f9605db15da
DTSTART:20260416T063000Z
DTEND:20260416T220000Z
LOCATION:Localisation   
CATEGORIES:Sportif
STATUS:
URL;VALUE=URI:https://www.pedalejoyeuse.fr/evenements/2026/04/16/tinazzi-gemenos-col-de-lange-caunet-ceyreste-la-ciotat-belle-fille-les-fours-chaux-la-bedoule-aubagne-tinazzi-65km-parcours-bis-col-de-lange-fond-blanch-2429834
END:VEVENT
END:VCALENDAR
