BEGIN:VCALENDAR
VERSION:2.0
PRODID:-//hacksw/handcal//NONSGML v1.0//EN
BEGIN:VEVENT
SUMMARY:Tinazzi  Aubagne  Lascours  La Bouilladisse  Le Chenil  Valdonne  Greasque  Fuveau  Les Michels  Peynier  Le Juillet  La Pomme  Roquevaire  Tinazzi.65 Km - (Parcours bis) Greasque et retour Tinazzi 50 Km
UID:a33348a6-19b7-4448-9473-f21289d71146
DTSTART:20260414T063000Z
DTEND:20260414T220000Z
LOCATION:Localisation   
CATEGORIES:Sportif
STATUS:
URL;VALUE=URI:https://www.pedalejoyeuse.fr/evenements/2026/04/14/tinazzi-aubagne-lascours-la-bouilladisse-le-chenil-valdonne-greasque-fuveau-les-michels-peynier-le-juillet-la-pomme-roquevaire-tinazzi65-km-parcours-bis-greasque-et-retour-tinazzi-50-km-2429833
END:VEVENT
END:VCALENDAR
