BEGIN:VCALENDAR
VERSION:2.0
PRODID:-//hacksw/handcal//NONSGML v1.0//EN
BEGIN:VEVENT
SUMMARY:Plan de Cuques
UID:7aa38d08-7c87-4272-8644-345487e8d9c8
DTSTART:20260412T060000Z
DTEND:20260412T103000Z
LOCATION:Localisation   
CATEGORIES:Sportif
STATUS:
URL;VALUE=URI:https://www.pedalejoyeuse.fr/evenements/2026/04/12/plan-de-cuques-2423294
END:VEVENT
END:VCALENDAR
