BEGIN:VCALENDAR
VERSION:2.0
PRODID:-//hacksw/handcal//NONSGML v1.0//EN
BEGIN:VEVENT
SUMMARY:Sortie bis Depart Logis Neuf
UID:ed6c94e3-9a8d-4110-8d22-f429abcf1d54
DTSTART:20260411T063000Z
DTEND:20260411T110000Z
LOCATION:Localisation   
CATEGORIES:Sportif
STATUS:
DESCRIPTION:<p><a
 href="https://admin.sportsregions.fr/media/uploaded/sites/28128/kcupload/files/23755858.gpx"
 target="_blank" rel="noreferrer
 noopener">https://admin.sportsregions.fr/media/uploaded/sites/28128/kcupload/files/23755858.gpx</a></p>
 
 <p>Depart
 Logis Neuf (Parking apres rond point d'Allauch )Col des termes,
 Cadolive La diote, Greasque, Fuveau, Belcodene, Valdone, Bois des
 Lutins, Peypin, Le Regage, Logis Neuf  52 Kms 815 D+ Openrunner
 23755858f</p>
URL;VALUE=URI:https://www.pedalejoyeuse.fr/evenements/2026/04/11/sortie-bis-depart-logis-neuf-2439547
END:VEVENT
END:VCALENDAR
