BEGIN:VCALENDAR
VERSION:2.0
PRODID:-//hacksw/handcal//NONSGML v1.0//EN
BEGIN:VEVENT
SUMMARY:ATTENTION DEPART DE L'ESTAQUE: rendez-vous parking du parc Mistral  la sortie de l'Estaque  Le Rove  Carry  Sausset  direction la Couronne  D49  D5  Saint-Julien les Martigues  Sausset  retour par Carry  Le Rove  L'Estaque. 78 km
UID:c9145e66-cb20-4c48-871a-eae406a8b16c
DTSTART:20260411T063000Z
DTEND:20260411T220000Z
LOCATION:Localisation   
CATEGORIES:Sportif
STATUS:
URL;VALUE=URI:https://www.pedalejoyeuse.fr/evenements/2026/04/11/attention-depart-de-lestaque-rendez-vous-parking-du-parc-mistral-la-sortie-de-lestaque-le-rove-carry-sausset-direction-la-couronne-d49-d5-saint-julien-les-martigues-sausset-retour-par-carry-le-rove-lestaque-78-km-2429832
END:VEVENT
END:VCALENDAR
