BEGIN:VCALENDAR
VERSION:2.0
PRODID:-//hacksw/handcal//NONSGML v1.0//EN
BEGIN:VEVENT
SUMMARY:Tinazzi  Aubagne  Roquevaire  Auriol  Moulin de Redon -  Petit Galibier jusqu'au sommet et retour - St Zacharie -  Aubagne - Tinazzi. 60 Km - (Parcours bis) sans Petit Galibier, caf  St Zacharie et retour 5 Km
UID:b6fe1e65-e619-4da0-8225-8d9eab2a9099
DTSTART:20260409T063000Z
DTEND:20260409T220000Z
LOCATION:Localisation   
CATEGORIES:Sportif
STATUS:
URL;VALUE=URI:https://www.pedalejoyeuse.fr/evenements/2026/04/09/tinazzi-aubagne-roquevaire-auriol-moulin-de-redon-petit-galibier-jusquau-sommet-et-retour-st-zacharie-aubagne-tinazzi-60-km-parcours-bis-sans-petit-galibier-caf-st-zacharie-et-retour-5-km-2429831
END:VEVENT
END:VCALENDAR
