BEGIN:VCALENDAR
VERSION:2.0
PRODID:-//hacksw/handcal//NONSGML v1.0//EN
BEGIN:VEVENT
SUMMARY:Tinazzi  Gemenos - Le Col de l'Ange  tour du circuit Paul Ricard  Le Camp - La Begude - Caunet  Gemenos - Tinazzi.  63 Km - (Parcours bis) Tinazzi  Gemenos - Le Col de l'Ange  cafe au Camp - La Begude - Caunet  Gemenos - Tinazzi.  55 Km
UID:1ee24d59-be86-4bc8-b6ed-01621aa06c63
DTSTART:20260407T063000Z
DTEND:20260407T220000Z
LOCATION:Localisation   
CATEGORIES:Sportif
STATUS:
URL;VALUE=URI:https://www.pedalejoyeuse.fr/evenements/2026/04/07/tinazzi-gemenos-le-col-de-lange-tour-du-circuit-paul-ricard-le-camp-la-begude-caunet-gemenos-tinazzi-63-km-parcours-bis-tinazzi-gemenos-le-col-de-lange-cafe-au-camp-la-begude-caunet-gemenos-tinazzi-55-km-2429830
END:VEVENT
END:VCALENDAR
