BEGIN:VCALENDAR
VERSION:2.0
PRODID:-//hacksw/handcal//NONSGML v1.0//EN
BEGIN:VEVENT
SUMMARY:Cyclo Saint Zacharie
UID:27ab7196-773c-4a05-84ef-f3efb69e4273
DTSTART:20260406T053000Z
DTEND:20260406T070000Z
LOCATION:Localisation   
CATEGORIES:Sportif
STATUS:
DESCRIPTION:FABRICE GARDETTO Envoye : vendredi 13 mars 2026 13:57A :
 fdamma@orange.fr; fabrice.gardetto@orange.frObjet : Presentation
 evenement cycliste lundi 6 avril 2026 / Lundi de Paques clubs CSB
 Cyclisme et VTT SainteBaumeAmis cyclistes bonjour !Le lundi 6 avril
 2026, lundi de Paques, le CSB Cyclisme et le VTTSainte Baume sont
 heureux de vous proposer Les Raids del’Huveaune et du Regagnas.
 Pour cette premiere edition, le depart officiel aura lieu du
 boulodrome de Saint-Zachariehttps://share.google/AbgenTiU7qxfVMT61...
 et pour 2027 cela sera La Bouilladisse😊Des parcours route, VTT et
 Gravel seront proposes avec en point d’orgues, 2 raids longue
 distance en VTT 70 km et Gravel 75km.Ces 2 Raids necessiteront une
 inscription prealable imperative chez notre partenaire Sports’N
 Connect jusqu’au vendredi 3 avril.Les participants devront partir
 entre 7h et 7h30 maximum apres la remise des plaques de cadre, les
 bracelets de ravito et le ticketdeTombola. Des portes horaires seront
 determinees avec pointage obligatoire sur les ravitaillements de
 Moulin de Redon, LaBouilladisse et Saint Jean du Puy.Pour lesparcours
 route 70 et 109 Km, VTT 38 et 50 km les departs se feront entre 7h30
 et 9h maximum.Seul le parcours VTT 38 km sera balise sur le terrain
 alors que tous les autres parcours devront etre realises avec une
 trace GPSfournie par l’organisation.Le parcours VTTde 38 km sera
 ludique et accessible, le 50 particulierement adapte au VTTAE !Le
 parcours route de 109 km sera exigeant mais ideal pour decouvrir
 notre belle region...Les mineurs devront etre accompagnes d’un
 adulte et avoir au minimum 15 ans pour les parcours route, VTT38 km
 et gravel 42km. Les raids VTT70 et Gravel 75 seront ouverts
 uniquement aux + de 18 ansLe tarif de base applique aux participants
 sera de 19 EurosLe tarif pour les licencies FFVELO (ex FFCT), sera de
 13 EurosLa gratuite sera proposee pour les mineurs accompagnes d’un
 adulte payant.Details des ravitaillements de parcours, prestation
 repas et animation d’arrivee :Tous les participants payants et
 mineurs accompagnes pourront beneficier du plateau repas d’arrivee
 avec un sandwich chaudcuisine, une part de fromage, un dessert et une
 biere en plus des ravitaillements de parcours.Les ravitaillements de
 parcours se trouveront sur les secteurs suivants :1) Boutique Velo
 evasion Moulin de Redon aveczone de depannage: grand parcours route,
 parcours vtt 38 km, 50 km, 70km, parcours Gravel 42 et 75 km2) 3) 4)
 Boulodrome La Bouilladisse : tous les parcours sauf le 38 km VTTet
 parcours familial au depart de Saint Zacharie.Piste montant a Saint
 Jean du Puy : tous les parcours sauf les parcours route et les 2
 parcours VTTfamilleSortie village de Puyloubier : grand parcours
 route uniquementUne tombola sera proposee avec l’affichage des
 gagnants a l’arrivee.Nos 2 clubs sommes impatients de vous
 retrouver pour partager ce beau moment de sport et de convivialite
 entre toutes lesformes de velos🤗Pour vous
 inscrire👇https:/new.sportsnconnect.com/members/events/registration/trials/4qWEuC8fRuw3t5nFvxjLqNSportivement.--Fabrice
 GardettoResponsable section CSB CyclismeVice President CSB
 Omnisport06 58 422 331www.labouilladissecyclisme.com
URL;VALUE=URI:https://www.pedalejoyeuse.fr/evenements/2026/04/06/cyclo-saint-zacharie-2429622
END:VEVENT
END:VCALENDAR
