BEGIN:VCALENDAR
VERSION:2.0
PRODID:-//hacksw/handcal//NONSGML v1.0//EN
BEGIN:VEVENT
SUMMARY:(Parcours bis) Le Camp - La Begude Caunet-Fond Blanche la Bedoule Aubagne - Tinazzi. 55 Km
UID:1f073703-0625-4c13-91d2-1f048c53a055
DTSTART:20260331T063000Z
DTEND:20260331T220000Z
LOCATION:Localisation   
CATEGORIES:Sportif
STATUS:
URL;VALUE=URI:https://www.pedalejoyeuse.fr/evenements/2026/03/31/parcours-bis-le-camp-la-begude-caunet-fond-blanche-la-bedoule-aubagne-tinazzi-55-km-2421361
END:VEVENT
END:VCALENDAR
