BEGIN:VCALENDAR
VERSION:2.0
PRODID:-//hacksw/handcal//NONSGML v1.0//EN
BEGIN:VEVENT
SUMMARY:Tinazzi  Aubagne - Le Charrel - La Bedoule  Cassis - Belle Fille la Ciotat  Ceyreste  Caunet  Col de l'Ange - Gemenos  Tinazzi. 73 Km (Parcours bis) - Belle Fille - Le Pas dOullier  caf  la Bdoule - Font Blanche - Le Col de lAnge  Gmenos  Tinazzi. 60 Km
UID:3cd66ee5-db55-48d4-b265-7cb4865cb157
DTSTART:20260326T073000Z
DTEND:20260326T230000Z
LOCATION:Localisation   
CATEGORIES:Sportif
STATUS:
URL;VALUE=URI:https://www.pedalejoyeuse.fr/evenements/2026/03/26/tinazzi-aubagne-le-charrel-la-bedoule-cassis-belle-fille-la-ciotat-ceyreste-caunet-col-de-lange-gemenos-tinazzi-73-km-parcours-bis-belle-fille-le-pas-doullier-caf-la-bdoule-font-blanche-le-col-de-lange-gmenos-tinazzi-60-km-2421358
END:VEVENT
END:VCALENDAR
