BEGIN:VCALENDAR
VERSION:2.0
PRODID:-//hacksw/handcal//NONSGML v1.0//EN
BEGIN:VEVENT
SUMMARY:Meteo tres venteuse:Sortie annulee a la journee La Londe Les Maures
UID:8ec4fe3e-b6da-414a-90b3-4b277f3fb50d
DTSTART:20260326T073000Z
DTEND:20260326T150000Z
LOCATION:Localisation   
CATEGORIES:Sportif
STATUS:
DESCRIPTION:<p><a
 href="https://admin.sportsregions.fr/media/uploaded/sites/28128/kcupload/files/Parcours%20du%2026%3A3%3A26(1).gpx"
 target="_blank" rel="noreferrer noopener">Parcours du
 26/3/26</a></p>
 
 <p>Bonjour a tous, les conditions meteo nous
 obligent a annuler cette sortie.</p>
 
 <p>Il est prevu en effet des
 vents d'ouest force 7 avec coups de vents a 80 kms/h ce qui fait
 force 9 . Nous ne souhaitons donc pas prendre de risque et voulons
 que cette sortie reste un bon souvenir.</p>
 
 <p>Impossible de
 proposer une autre date pour l'instant la semaine suivente annonce de
 la pluie....;</p>
 
 <p>La sortie du club au depart de Tinazzi est par
 contre maintenue (vent prevu force 6 )</p>
URL;VALUE=URI:https://www.pedalejoyeuse.fr/evenements/2026/03/26/meteo-tres-venteusesortie-annulee-a-la-journee-la-londe-les-maures-2423268
END:VEVENT
END:VCALENDAR
