BEGIN:VCALENDAR
VERSION:2.0
PRODID:-//hacksw/handcal//NONSGML v1.0//EN
BEGIN:VEVENT
SUMMARY:Excelsior
UID:01dabe7a-5a18-4207-ac99-7f917dee0092
DTSTART:20260321T063000Z
DTEND:20260321T230000Z
LOCATION:Localisation   
CATEGORIES:Sportif
STATUS:
URL;VALUE=URI:https://www.pedalejoyeuse.fr/evenements/2026/03/21/excelsior-2423305
END:VEVENT
END:VCALENDAR
