BEGIN:VCALENDAR
VERSION:2.0
PRODID:-//hacksw/handcal//NONSGML v1.0//EN
BEGIN:VEVENT
SUMMARY:Tinazzi, Riboux, Tinazzi: 59km,D+780m
UID:177fb3fc-ed85-4bdf-af46-507e07efed80
DTSTART:20260315T073000Z
DTEND:20260315T110000Z
LOCATION:Localisation   
CATEGORIES:Sportif
STATUS:
DESCRIPTION:<p>Suivant meteo</p>
URL;VALUE=URI:https://www.pedalejoyeuse.fr/evenements/2026/03/15/tinazzi-riboux-tinazzi-59kmd780m-2427444
END:VEVENT
END:VCALENDAR
