BEGIN:VCALENDAR
VERSION:2.0
PRODID:-//hacksw/handcal//NONSGML v1.0//EN
BEGIN:VEVENT
SUMMARY:Tinazzi-Aubagne-Lascours-La Bouilladisse-Le Chenil-Valdonne-Greasque-Fuveau-Belcodene-La Pomme- Le Chenil-Roquevaire Tinazzi. 55 Kms (Parcours bis) sans Lascours, direct Roquevaire
UID:b9a4b911-4d8c-4ea7-b78a-745556128d94
DTSTART:20260312T073000Z
DTEND:20260312T230000Z
LOCATION:Localisation   
CATEGORIES:Sportif
STATUS:
URL;VALUE=URI:https://www.pedalejoyeuse.fr/evenements/2026/03/12/tinazzi-aubagne-lascours-la-bouilladisse-le-chenil-valdonne-greasque-fuveau-belcodene-la-pomme-le-chenil-roquevaire-tinazzi-55-kms-parcours-bis-sans-lascours-direct-roquevaire-2421352
END:VEVENT
END:VCALENDAR
