BEGIN:VCALENDAR
VERSION:2.0
PRODID:-//hacksw/handcal//NONSGML v1.0//EN
BEGIN:VEVENT
SUMMARY:Pique Nique du 17 Mai
UID:ba4061e7-f9b5-4ff5-b2d4-3040329a1bed
DTSTART:20260517T093000Z
DTEND:20260517T150000Z
LOCATION:Localisation Parking des cistes 13600 Ceyreste
CATEGORIES:Festif
STATUS:
DESCRIPTION:<p><span style="font-size:11pt;"><span
 style="font-style:normal;"><span
 style="font-weight:400;"><span><span><span><span><span
 style="font-family:Calibri, sans-serif;"><span
 style="color:#000000;">Bonjour a toutes et
 tous,</span></span></span></span></span></span></span></span></span></p>
 
 <p><span
 style="font-size:11pt;"><span style="font-style:normal;"><span
 style="font-weight:400;"><span><span><span><span><span
 style="font-family:Calibri, sans-serif;"><span
 style="color:#000000;">Vous avez compris que nous testons et
 apprenons le logiciel du site de notre
 club.</span></span></span></span></span></span></span></span></span></p>
 
 <p><span
 style="font-size:11pt;"><span style="font-style:normal;"><span
 style="font-weight:400;"><span><span><span><span><span
 style="font-family:Calibri, sans-serif;"><span
 style="color:#000000;">Milles excuses donc si vous recevez plusieurs
 fois la meme information par des biais
 differents.</span></span></span></span></span></span></span></span></span></p>
 
 <p><span
 style="font-size:11pt;"><span style="font-style:normal;"><span
 style="font-weight:400;"><span><span><span><span><span
 style="font-family:Calibri, sans-serif;"><span
 style="color:#000000;">Toiute critique ou sugestion
 <strong>constructive</strong> est d'ailleurs
 bienvenue.</span></span></span></span></span></span></span></span></span></p>
 
 <p><span
 style="font-size:11pt;"><span style="font-style:normal;"><span
 style="font-weight:400;"><span><span><span><span><span
 style="font-family:Calibri, sans-serif;"><span
 style="color:#000000;">Nous organisons notre pique-nique de printemps
 le Dimanche 17
 Mai</span></span></span></span></span></span></span></span></span></p>
 
 <p><span
 style="font-size:11pt;"><span style="font-style:normal;"><span
 style="font-weight:400;"><span><span><span><span><span
 style="font-family:Calibri, sans-serif;"><span
 style="color:#000000;">Au Grand Caunet parking des Cistes. Rdv entre
 11h30,midi.</span></span></span></span></span></span></span></span></span></p>
 
 <p><span
 style="font-size:11pt;"><span style="font-style:normal;"><span
 style="font-weight:400;"><span><span><span><span><span
 style="font-family:Calibri, sans-serif;"><span
 style="color:#000000;">L’itineraire pour ceux venant de
 Marseille :</span></span></span></span></span></span></span></span></span></p>
 
 <p><span
 style="font-size:11pt;"><span style="font-style:normal;"><span
 style="font-weight:400;"><span><span><span><span><span
 style="font-family:Calibri, sans-serif;"><span
 style="color:#000000;">Aubagne,gemenos,col de l’ange, a droite
 direction Ceyreste La Ciotat, par le Grand
 Caunet,</span></span></span></span></span></span></span></span></span></p>
 
 <p><span
 style="font-size:11pt;"><span style="font-style:normal;"><span
 style="font-weight:400;"><span><span><span><span><span
 style="font-family:Calibri, sans-serif;"><span
 style="color:#000000;">Au Grand Caunet a gauche direction le Camp,
 parking des Cistes sur la
 gauche.</span></span></span></span></span></span></span></span></span></p>
 
 <p><span
 style="font-size:11pt;"><span style="font-style:normal;"><span
 style="font-weight:400;"><span><span><span><span><span
 style="font-family:Calibri, sans-serif;"><span
 style="color:#000000;">Le club offrira l’aperitif , les repas
 pique-nique etant a la charge de
 chacun.</span></span></span></span></span></span></span></span></span></p>
 
 <p><span
 style="font-size:11pt;"><span style="font-style:normal;"><span
 style="font-weight:400;"><span><span><span><span><span
 style="font-family:Calibri, sans-serif;"><span
 style="color:#000000;">N’oubliez pas les boules et les jeux
 divers ;</span></span></span></span></span></span></span></span></span></p>
 
 <p><span
 style="font-size:11pt;"><span style="font-style:normal;"><span
 style="font-weight:400;"><span><span><span><span><span
 style="font-family:Calibri, sans-serif;"><span
 style="color:#000000;">A bientot si le temps le
 permet.</span></span></span></span></span></span></span></span></span></p>
 
 <p><span
 style="font-size:11pt;"><span style="font-style:normal;"><span
 style="font-weight:400;"><span><span><span><span><span
 style="font-family:Calibri, sans-serif;"><span
 style="color:#000000;">Bien
 Amicalement.</span></span></span></span></span></span></span></span></span></p>
 
 <p><span
 style="font-size:11pt;"><span style="font-style:normal;"><span
 style="font-weight:400;"><span><span><span><span><span
 style="font-family:Calibri, sans-serif;"><span
 style="color:#000000;">Raymond.</span></span></span></span></span></span></span></span></span></p>
 
 <p><span
 style="font-size:11pt;"><span style="font-style:normal;"><span
 style="font-weight:400;"><span><span><span><span><span
 style="font-family:Calibri, sans-serif;"><span
 style="color:#000000;">PS : Merci de m’indiquer ceux qui
 participeront afin de prevoir au mieux
 l’apero.</span></span></span></span></span></span></span></span></span></p>
URL;VALUE=URI:https://www.pedalejoyeuse.fr/evenements/2026/05/17/pique-nique-du-17-mai-2437831
END:VEVENT
END:VCALENDAR
