BEGIN:VCALENDAR
VERSION:2.0
PRODID:-//hacksw/handcal//NONSGML v1.0//EN
BEGIN:VEVENT
SUMMARY:Tinazzi  Le Charrel  Carnoux Cassis  Les Fours  Chaux  La Bedoule  Fond Blanche  Le Camp  Retour par Cuges et col de l'Ange  Gemenos  Aubagne  Tinazzi 70 Km - (Parcours bis) Tinazzi  Le Charrel  Carnoux  Cassis  Belle Fille  La Ciotat  Ceyreste  Caunet  F
UID:4514c7cd-dcf9-4e86-afc0-32fbfedbc64b
DTSTART:20260425T063000Z
DTEND:20260425T220000Z
LOCATION:Localisation   
CATEGORIES:Sportif
STATUS:
URL;VALUE=URI:https://www.pedalejoyeuse.fr/evenements/2026/04/25/tinazzi-le-charrel-carnoux-cassis-les-fours-chaux-la-bedoule-fond-blanche-le-camp-retour-par-cuges-et-col-de-lange-gemenos-aubagne-tinazzi-70-km-parcours-bis-tinazzi-le-charrel-carnoux-cassis-belle-fille-la-ciotat-ceyreste-caunet-f-2429838
END:VEVENT
BEGIN:VEVENT
SUMMARY:Randonnee La Louis Caput
UID:a1825b21-5e48-4768-af2c-f68cbd6e0c02
DTSTART:20260426T060000Z
DTEND:20260426T110000Z
LOCATION:Localisation   
CATEGORIES:Sportif
STATUS:
URL;VALUE=URI:https://www.pedalejoyeuse.fr/evenements/2026/04/26/randonnee-la-louis-caput-2416257
END:VEVENT
BEGIN:VEVENT
SUMMARY:Tinazzi  Aubagne  Lascours  La Bouilladisse  Le Chenil  Valdonne  Greasque  Fuveau  Les Michels  Peynier  Le Juillet  La Pomme  Roquevaire  Tinazzi.65Km  - (Parcours bis) Greasque et retour 50 Km
UID:b7ed1f30-821e-470c-927a-adcf94c0cf79
DTSTART:20260428T063000Z
DTEND:20260428T220000Z
LOCATION:Localisation   
CATEGORIES:Sportif
STATUS:
URL;VALUE=URI:https://www.pedalejoyeuse.fr/evenements/2026/04/28/tinazzi-aubagne-lascours-la-bouilladisse-le-chenil-valdonne-greasque-fuveau-les-michels-peynier-le-juillet-la-pomme-roquevaire-tinazzi65km-parcours-bis-greasque-et-retour-50-km-2429839
END:VEVENT
BEGIN:VEVENT
SUMMARY:Tinazzi  Gemenos  Col de l'Ange  Caunet  Ceyreste  La Ciotat  Belle Fille  Le Four  Chaux La Bedoule  Aubagne  Tinazzi 60Km     (Parcours bis) Col de lAnge  Fond Blanche  Les Vignes  Pas dOuillier La Bdoule  Fond Blanche  Col de lAnge  Gmenos  Tinazzi  50
UID:6232de83-9ca0-4d32-9cf4-a703a5c1c8d4
DTSTART:20260430T063000Z
DTEND:20260430T220000Z
LOCATION:Localisation   
CATEGORIES:Sportif
STATUS:
URL;VALUE=URI:https://www.pedalejoyeuse.fr/evenements/2026/04/30/tinazzi-gemenos-col-de-lange-caunet-ceyreste-la-ciotat-belle-fille-le-four-chaux-la-bedoule-aubagne-tinazzi-60km-parcours-bis-col-de-lange-fond-blanche-les-vignes-pas-douillier-la-bdoule-fond-blanche-col-de-lange-gmenos-tinazzi-50-2429840
END:VEVENT
BEGIN:VEVENT
SUMMARY:Parcours Bis: Tinazzi Auriol-Saint Zacharie-La  Sambuc-Tour de Nans-Saint Zacharie-Roquevaire-Tinazzi
UID:cb82e5e5-2469-40ef-b7bc-ee78107158b2
DTSTART:20260502T060000Z
DTEND:20260502T220000Z
LOCATION:Localisation   
CATEGORIES:Sportif
STATUS:
URL;VALUE=URI:https://www.pedalejoyeuse.fr/evenements/2026/05/02/parcours-bis-tinazzi-auriol-saint-zacharie-la-sambuc-tour-de-nans-saint-zacharie-roquevaire-tinazzi-2443808
END:VEVENT
BEGIN:VEVENT
SUMMARY:Tinazzi-Roquevaire-Auriol-St Zacharie-La Sambuc-Nans les Pins-La Ste Baume-Le Plan D’Aups-La Coutronne-Gemenos-Tinazzi.
UID:f9766f44-03f7-4913-ab61-0b45cbb6277c
DTSTART:20260502T060000Z
DTEND:20260502T220000Z
LOCATION:Localisation   
CATEGORIES:Sportif
STATUS:
URL;VALUE=URI:https://www.pedalejoyeuse.fr/evenements/2026/05/02/tinazzi-roquevaire-auriol-st-zacharie-la-sambuc-nans-les-pins-la-ste-baume-le-plan-daups-la-coutronne-gemenos-tinazzi-2443807
END:VEVENT
BEGIN:VEVENT
SUMMARY:Parcours Bis: Tinazzi Auriol-Saint Zacharie-La  Sambuc-Tour de Nans  et retour
UID:d1f1a665-0b82-43b3-a593-81145544c10b
DTSTART:20260505T060000Z
DTEND:20260505T220000Z
LOCATION:Localisation   
CATEGORIES:Sportif
STATUS:
URL;VALUE=URI:https://www.pedalejoyeuse.fr/evenements/2026/05/05/parcours-bis-tinazzi-auriol-saint-zacharie-la-sambuc-tour-de-nans-et-retour-2443810
END:VEVENT
BEGIN:VEVENT
SUMMARY:Tinazzi-Roquevaire-Auriol-Le Pujol-La Coutronne-Le Plan d’Aups-Nans les pins-St Zacharie-Roquevaire-Tinazzi.
UID:7ca1339a-f893-46cf-82b8-dbb977d3951f
DTSTART:20260505T060000Z
DTEND:20260505T220000Z
LOCATION:Localisation   
CATEGORIES:Sportif
STATUS:
URL;VALUE=URI:https://www.pedalejoyeuse.fr/evenements/2026/05/05/tinazzi-roquevaire-auriol-le-pujol-la-coutronne-le-plan-daups-nans-les-pins-st-zacharie-roquevaire-tinazzi-2443809
END:VEVENT
BEGIN:VEVENT
SUMMARY:Parcours Bis: TinazziAubagne-Gemenos-Col de l'Ange-Caunet-Le Camp-La Begude -Gemenos -Aubagne_Tinazzi
UID:8ff480ee-79c4-42a5-8e78-8a8992f13f03
DTSTART:20260507T060000Z
DTEND:20260507T220000Z
LOCATION:Localisation   
CATEGORIES:Sportif
STATUS:
URL;VALUE=URI:https://www.pedalejoyeuse.fr/evenements/2026/05/07/parcours-bis-tinazziaubagne-gemenos-col-de-lange-caunet-le-camp-la-begude-gemenos-aubagne-tinazzi-2443812
END:VEVENT
BEGIN:VEVENT
SUMMARY:Tinazzi-Aubagne-Gemenos-Le col de l’Ange-Le Caunet-Le Camp- Signes et retour par Cuges .
UID:34a18da8-9ad1-4dfa-bd28-1c739303ce6f
DTSTART:20260507T060000Z
DTEND:20260507T220000Z
LOCATION:Localisation   
CATEGORIES:Sportif
STATUS:
URL;VALUE=URI:https://www.pedalejoyeuse.fr/evenements/2026/05/07/tinazzi-aubagne-gemenos-le-col-de-lange-le-caunet-le-camp-signes-et-retour-par-cuges-2443811
END:VEVENT
BEGIN:VEVENT
SUMMARY:La Farlede Cyclo
UID:aeef88f3-1ce8-4b01-a766-7ac051e06072
DTSTART:20260508T220000Z
DTEND:20260510T220000Z
LOCATION:Localisation   
CATEGORIES:Sportif
STATUS:
URL;VALUE=URI:https://www.pedalejoyeuse.fr/evenements/2026/05/09/la-farlede-cyclo-2416279
END:VEVENT
BEGIN:VEVENT
SUMMARY:Les bosses du Contat Venaissin
UID:53ee2374-5e35-40b4-9fba-2d5ee0477fb3
DTSTART:20260509T053000Z
DTEND:20260509T220000Z
LOCATION:Localisation   
CATEGORIES:Sportif
STATUS:
DESCRIPTION:PRESENTATION DE NOTRE RALLYE des « BOSSES DU COMTAT »
 du samedi 9 mai 2026   Pour notre 18° organisation du rallye « des
 Bosses du Comtat » nous vous attendons nombreux pour venir decouvrir
 les six circuits proposes qui vous feront decouvrir les villages du
 Comtat ,les Gorges de la Nesque et les beaux paysages du tour du
 Ventoux.  Le circuit de 60km, D+ 600m (openrunner 23073456) : ce
 parcours vous fera decouvrir quelques beaux villages du Comtat
 Venaissin au Sud du Ventoux, certains perches comme Blauvac avec une
 superbe vue sur le Ventoux puis Methamis et Venasque.  Le circuit de
 85km D+1150m (openrunner 23073448) ce parcours apres la montee pour
 atteindre le village de Blauvac, vous fera decouvrir le vignoble du
 Ventoux pour atteindre Villes sur Auzon , depart des magnifiques
 Gorges de la Nesque pour arriver au sommet a 730m ou se trouve le
 point de vue du rocher du Cire, de la descente sur le village de
 Monieux ou vous serez accueilli au ravito au bord du lac, puis depart
 par quelques lacets et un long faux plat pour rejoindre la ferme de
 St Hubert, point culminant du circuit (830m) ou vous longerez de
 nouveau les gorges pour rejoindre le village de Methamis puis
 Malemort ou vous attendra le deuxieme ravito, de la vous rentrerez
 par la plaine du Comtat sur Carpentras et Serres.  Le circuit de
 100km D+ 1450m (open runer N° 23073423) est identique au 85km
 jusqu'au deuxieme ravito et a partir de Venasque il vous permettra de
 decouvrir le beau village du Beaucet ainsi que deux petites
 grimpettes un peu raides qui vous rappelleront que vous etes sur le
 rallye des « Bosses du Comtat », puis retour par la plaine sur
 Carpentras et Serres.  Le circuit du 120km D+1600m ( openrunner
 n°23067808) apres un depart en plaine vous fera decouvrir a partir
 de Villes sur Auzon les Gorges de la Nesque pour atteindre le ravito
 du lac de Monieux , depart vers le village de Sault ou se deroule la
 Fete de la Lavande , le circuit vous menera au hameau des Crottes par
 la petite route de la lavande ou vous apercevrez perche le beau
 village d'Aurel puis direction Montbrun les Bains dans la Drome
 Provencale un faux plat descendant vous menera au superbe village de
 Brantes ou vous trouverez a la sortie du village votre deuxieme
 ravito apres une petite montee , de la vous rejoindrez le Col de
 Fontaube puis Mollans / Ouveze pour rentrer par le col de Veaux ou
 quelques bosses vous attendront, un mini ravito au km 100 vous
 permettra de reprendre des forces pour rejoindre Malaucene puis
 Serres.   Les circuits 130km D+ 1750m et 140 km D+ 2000m (open runner
 23075137 et 23073391) sont des boucles en plus du circuit 120km qui
 permettent aux grimpeurs de se faire plaisir a partir de Sault
 jusqu’a Montbrun ou vous retrouverez le circuit du 120km, au choix
 montee sur le village de Ferrassieres dans la Drome et pour les plus
 costauds le col de l'homme mort en plus puis descente vers le beau
 village de Barret de Lioure avec une vue sur le village de Montbrun
 et le sommet du Ventoux versant Nord.   A l'issue de la randonnee le
 verre de l'amitie vous permettra de discuter de la beaute des
 circuits des Gorges de la Nesque et du tour du Geant de Provence et
 si vous voulez prolonger le plaisir de s s retrouver entre cyclistes,
 un repas vous sera servi pour 10 €. 
URL;VALUE=URI:https://www.pedalejoyeuse.fr/evenements/2026/05/09/les-bosses-du-contat-venaissin-2439049
END:VEVENT
BEGIN:VEVENT
SUMMARY:Parcours Bis:Tinazzi-Aubagne-La Bouilladisse-Le chenil-La Pomme-Le Pigeonnier-La Bouilladisse-Aubagne
UID:2e3d8cc9-d297-49e0-90c7-897049a8d202
DTSTART:20260509T060000Z
DTEND:20260509T220000Z
LOCATION:Localisation   
CATEGORIES:Sportif
STATUS:
URL;VALUE=URI:https://www.pedalejoyeuse.fr/evenements/2026/05/09/parcours-bistinazzi-aubagne-la-bouilladisse-le-chenil-la-pomme-le-pigeonnier-la-bouilladisse-aubagne-2443814
END:VEVENT
BEGIN:VEVENT
SUMMARY:Tinazzi-Aubagne-La Bouilladisse-Le chenil-La Pomme-Peynier-Trets-Le Petit Galibier-St Zacharie-Auriol- Roquevaire- Tinazzi
UID:535ce38d-17b5-4754-978a-ca38f97c307c
DTSTART:20260509T060000Z
DTEND:20260509T220000Z
LOCATION:Localisation   
CATEGORIES:Sportif
STATUS:
URL;VALUE=URI:https://www.pedalejoyeuse.fr/evenements/2026/05/09/tinazzi-aubagne-la-bouilladisse-le-chenil-la-pomme-peynier-trets-le-petit-galibier-st-zacharie-auriol-roquevaire-tinazzi-2443813
END:VEVENT
BEGIN:VEVENT
SUMMARY:Parcours Bis:Tinazzi Aubagne-Le Col de l’Ange-Fond Blanche-La Bedoule-  Le Pas d’Oullier-Belle Fille-Cassis-Le Four aChaux-La Bedoule-Aubagne-Tinazzi 51 Kms
UID:6d4977e7-1aa2-49f2-a194-8e769bb8c12b
DTSTART:20260512T060000Z
DTEND:20260512T220000Z
LOCATION:Localisation   
CATEGORIES:Sportif
STATUS:
URL;VALUE=URI:https://www.pedalejoyeuse.fr/evenements/2026/05/12/parcours-bistinazzi-aubagne-le-col-de-lange-fond-blanche-la-bedoule-le-pas-doullier-belle-fille-cassis-le-four-achaux-la-bedoule-aubagne-tinazzi-51-kms-2443816
END:VEVENT
BEGIN:VEVENT
SUMMARY:Tinazzi-Gemenos-Le Col de l’Ange-Caunet-Ceyreste-  La  Ciotat-Belle Fille-Le Pas d’Oullier-La Bedoule-Aubagne-Tinazzi..
UID:7d42b852-79e8-4285-8304-731592cf9047
DTSTART:20260512T060000Z
DTEND:20260512T220000Z
LOCATION:Localisation   
CATEGORIES:Sportif
STATUS:
URL;VALUE=URI:https://www.pedalejoyeuse.fr/evenements/2026/05/12/tinazzi-gemenos-le-col-de-lange-caunet-ceyreste-la-ciotat-belle-fille-le-pas-doullier-la-bedoule-aubagne-tinazzi-2443815
END:VEVENT
BEGIN:VEVENT
SUMMARY:Parcours bis:Tinazzi-Aubagne-La Destrousse-Le Chenil-Greasque-Fuveau-Belcodene-La Pomme- Roquevaire-Tinazzi  55 Kms
UID:c9c46aae-709d-46f5-9bed-60a6fedbc573
DTSTART:20260513T220000Z
DTEND:20260514T220000Z
LOCATION:Localisation   
CATEGORIES:Sportif
STATUS:
URL;VALUE=URI:https://www.pedalejoyeuse.fr/evenements/2026/05/14/parcours-bistinazzi-aubagne-la-destrousse-le-chenil-greasque-fuveau-belcodene-la-pomme-roquevaire-tinazzi-55-kms-2443818
END:VEVENT
BEGIN:VEVENT
SUMMARY:Tinazzi-Aubagne-La Destrousse-Peypin-Les Termes-Mimet-  La Diote-Greasque-Fuveau-Les Michels-Peynier-Le Juillet-Le Pigeonnier-Les Boyers-Auriol-Roquevaire-Tinazzi .
UID:02df8a92-2ad0-4cbf-8673-34a78bedbc76
DTSTART:20260513T220000Z
DTEND:20260514T220000Z
LOCATION:Localisation   
CATEGORIES:Sportif
STATUS:
URL;VALUE=URI:https://www.pedalejoyeuse.fr/evenements/2026/05/14/tinazzi-aubagne-la-destrousse-peypin-les-termes-mimet-la-diote-greasque-fuveau-les-michels-peynier-le-juillet-le-pigeonnier-les-boyers-auriol-roquevaire-tinazzi-2443817
END:VEVENT
BEGIN:VEVENT
SUMMARY:Parcours Bis:Tinazzi-Le Charrel- Pas d'Oulier-La Ciotat-Ceyreste-Caunet-Le col de l’Ange-Tinazzi.
UID:06159ab3-c867-4526-b546-659313304c1f
DTSTART:20260515T220000Z
DTEND:20260516T220000Z
LOCATION:Localisation   
CATEGORIES:Sportif
STATUS:
URL;VALUE=URI:https://www.pedalejoyeuse.fr/evenements/2026/05/16/parcours-bistinazzi-le-charrel-pas-doulier-la-ciotat-ceyreste-caunet-le-col-de-lange-tinazzi-2443820
END:VEVENT
BEGIN:VEVENT
SUMMARY:Tinazzi-Le Charrel-La Bedoule-Le Pas d’Oulier-La Ciotat-St Cyr-Le Beausset-Le tour du Ricard (direction Signes) Le Camp-La Begude-Caunet-Gemenos-Tinazzi.
UID:08c2f5af-8f51-4550-9761-8bf6de3d89f5
DTSTART:20260515T220000Z
DTEND:20260516T220000Z
LOCATION:Localisation   
CATEGORIES:Sportif
STATUS:
URL;VALUE=URI:https://www.pedalejoyeuse.fr/evenements/2026/05/16/tinazzi-le-charrel-la-bedoule-le-pas-doulier-la-ciotat-st-cyr-le-beausset-le-tour-du-ricard-direction-signes-le-camp-la-begude-caunet-gemenos-tinazzi-2443819
END:VEVENT
BEGIN:VEVENT
SUMMARY:Parcours bis : Tinazzi-Gemenos-L'Espigoulier-Le plan d’Aups-La Grande Bastide-St Zacharie-Auriol- Tinazzi .
UID:935e5e11-febd-4b4f-a58e-0c62b225f5ea
DTSTART:20260518T220000Z
DTEND:20260519T220000Z
LOCATION:Localisation   
CATEGORIES:Sportif
STATUS:
URL;VALUE=URI:https://www.pedalejoyeuse.fr/evenements/2026/05/19/parcours-bis-tinazzi-gemenos-lespigoulier-le-plan-daups-la-grande-bastide-st-zacharie-auriol-tinazzi-2443822
END:VEVENT
BEGIN:VEVENT
SUMMARY:Tinazzi-Gemenos-L’Espigoulier-Le Plan d’Aups-Nans les Pins-St Zacharie-Auriol-Roquevaire-Tinazzi  .
UID:417583eb-cbe5-4d31-876b-8db28495098e
DTSTART:20260518T220000Z
DTEND:20260519T220000Z
LOCATION:Localisation   
CATEGORIES:Sportif
STATUS:
URL;VALUE=URI:https://www.pedalejoyeuse.fr/evenements/2026/05/19/tinazzi-gemenos-lespigoulier-le-plan-daups-nans-les-pins-st-zacharie-auriol-roquevaire-tinazzi-2443821
END:VEVENT
BEGIN:VEVENT
SUMMARY:Parcours bis: Tinazzi-La Destrousse-Le Chenil-Greasque-Fuveau-Belcodene-Le Pigeonnier-Roquevaire-Tinazzi. 60 Kms
UID:ebc73b87-a8fd-4749-b956-b2328f975e68
DTSTART:20260520T220000Z
DTEND:20260521T220000Z
LOCATION:Localisation   
CATEGORIES:Sportif
STATUS:
URL;VALUE=URI:https://www.pedalejoyeuse.fr/evenements/2026/05/21/parcours-bis-tinazzi-la-destrousse-le-chenil-greasque-fuveau-belcodene-le-pigeonnier-roquevaire-tinazzi-60-kms-2443824
END:VEVENT
BEGIN:VEVENT
SUMMARY:Tinazzi-La Destrousse-Peypin-Cadolive-La Diote-Greasque-Fuveau-Rousset-Trets-Le juillet-Roquevaire-Tinazzi
UID:ab5e305a-f7dd-4edd-b8c5-25c411af5e4b
DTSTART:20260520T220000Z
DTEND:20260521T220000Z
LOCATION:Localisation   
CATEGORIES:Sportif
STATUS:
URL;VALUE=URI:https://www.pedalejoyeuse.fr/evenements/2026/05/21/tinazzi-la-destrousse-peypin-cadolive-la-diote-greasque-fuveau-rousset-trets-le-juillet-roquevaire-tinazzi-2443823
END:VEVENT
BEGIN:VEVENT
SUMMARY:Parcours Bis :Tinazzi-Allauch-Le Terme de Peypin-St Savournin-Mimet-La Diote-Greasque-Valdone-Le Chenil- La destrousse-Roquevaire-Tinazzi  55 Kms
UID:b38dc681-fabf-4534-8f2b-78735642fcc9
DTSTART:20260522T220000Z
DTEND:20260523T220000Z
LOCATION:Localisation   
CATEGORIES:Sportif
STATUS:
URL;VALUE=URI:https://www.pedalejoyeuse.fr/evenements/2026/05/23/parcours-bis-tinazzi-allauch-le-terme-de-peypin-st-savournin-mimet-la-diote-greasque-valdone-le-chenil-la-destrousse-roquevaire-tinazzi-55-kms-2443826
END:VEVENT
BEGIN:VEVENT
SUMMARY:Tinazzi-Allauch-Le Terme de Peypin-St Savournin-Mimet-La Diote- Gardanne-La Barque-Jas de Bassas-Le Pailladou-La Pomme-Roquevaire-Tinazzi .
UID:6fd2f183-360e-41cb-bb7b-cc45e261ebf0
DTSTART:20260522T220000Z
DTEND:20260523T220000Z
LOCATION:Localisation   
CATEGORIES:Sportif
STATUS:
URL;VALUE=URI:https://www.pedalejoyeuse.fr/evenements/2026/05/23/tinazzi-allauch-le-terme-de-peypin-st-savournin-mimet-la-diote-gardanne-la-barque-jas-de-bassas-le-pailladou-la-pomme-roquevaire-tinazzi-2443825
END:VEVENT
BEGIN:VEVENT
SUMMARY:Les 6 Saintes
UID:55381bef-808a-478a-9b2a-034b71b62355
DTSTART:20260523T220000Z
DTEND:20260524T220000Z
LOCATION:Localisation   
CATEGORIES:Sportif
STATUS:
URL;VALUE=URI:https://www.pedalejoyeuse.fr/evenements/2026/05/24/les-6-saintes-2437139
END:VEVENT
BEGIN:VEVENT
SUMMARY:Parcours Bis:Tinazzi-Aubagne-Gemenos-Le Col de l’Ange-Le Caunet-Le Camp-La Begude-Caunet-Fond Blanche-La Bedoule-Aubagne-Tinazzi.
UID:3e727968-3a40-4b24-a057-6805d25f0d44
DTSTART:20260525T220000Z
DTEND:20260526T220000Z
LOCATION:Localisation   
CATEGORIES:Sportif
STATUS:
URL;VALUE=URI:https://www.pedalejoyeuse.fr/evenements/2026/05/26/parcours-bistinazzi-aubagne-gemenos-le-col-de-lange-le-caunet-le-camp-la-begude-caunet-fond-blanche-la-bedoule-aubagne-tinazzi-2443828
END:VEVENT
BEGIN:VEVENT
SUMMARY:Tinazzi-Aubagne-Gemenos-Le Col de l’Ange-Le Caunet-Le Camp- Le tour du Ricard-Le Camp-La Begude-Caunet-Fond Blanche-La Bedoule-Aubagne-Tinazzi.
UID:9b2fa5fd-1663-4f39-b0b2-0a21a213f464
DTSTART:20260525T220000Z
DTEND:20260526T220000Z
LOCATION:Localisation   
CATEGORIES:Sportif
STATUS:
URL;VALUE=URI:https://www.pedalejoyeuse.fr/evenements/2026/05/26/tinazzi-aubagne-gemenos-le-col-de-lange-le-caunet-le-camp-le-tour-du-ricard-le-camp-la-begude-caunet-fond-blanche-la-bedoule-aubagne-tinazzi-2443827
END:VEVENT
BEGIN:VEVENT
SUMMARY:Parcours Bis:Tinazzi-Aubagne-Roquevaire-Auriol-St Zacharie-La Sambuc-Tour de Nans-Saint Zacharie-Roquevaire-Tinazzi
UID:a729cf3c-e667-407b-ad2e-cc5eaa881221
DTSTART:20260527T220000Z
DTEND:20260528T220000Z
LOCATION:Localisation   
CATEGORIES:Sportif
STATUS:
URL;VALUE=URI:https://www.pedalejoyeuse.fr/evenements/2026/05/28/parcours-bistinazzi-aubagne-roquevaire-auriol-st-zacharie-la-sambuc-tour-de-nans-saint-zacharie-roquevaire-tinazzi-2443830
END:VEVENT
BEGIN:VEVENT
SUMMARY:Tinazzi-Aubagne-Roquevaire-Auriol-St Zacharie-Le Petit Galibier-Trets-Le Juillet-Le Pigeonnier-Roquevaire-Tinazzi .
UID:21af1a06-fd26-4f20-823d-1ee6558b9f79
DTSTART:20260527T220000Z
DTEND:20260528T220000Z
LOCATION:Localisation   
CATEGORIES:Sportif
STATUS:
URL;VALUE=URI:https://www.pedalejoyeuse.fr/evenements/2026/05/28/tinazzi-aubagne-roquevaire-auriol-st-zacharie-le-petit-galibier-trets-le-juillet-le-pigeonnier-roquevaire-tinazzi-2443829
END:VEVENT
BEGIN:VEVENT
SUMMARY:Parcours Bis :Tinazzi-La Destrousse-Peypin-Cadolive-La Diote-Greasque-Fuveau-Belcodene-Roquevaire-Tinazzi
UID:f1c436a4-c23c-4012-9583-64d7be618cc4
DTSTART:20260529T220000Z
DTEND:20260530T220000Z
LOCATION:Localisation   
CATEGORIES:Sportif
STATUS:
URL;VALUE=URI:https://www.pedalejoyeuse.fr/evenements/2026/05/30/parcours-bis-tinazzi-la-destrousse-peypin-cadolive-la-diote-greasque-fuveau-belcodene-roquevaire-tinazzi-2443832
END:VEVENT
BEGIN:VEVENT
SUMMARY:Tinazzi-La Destrousse-Peypin-Cadolive-La Diote-Greasque-Fuveau-Rousset-Trets-Le juillet-la pomme-Roquevaire-Tinazzi.
UID:28f898d5-a30b-4428-9e66-731e7d89ee88
DTSTART:20260529T220000Z
DTEND:20260530T220000Z
LOCATION:Localisation   
CATEGORIES:Sportif
STATUS:
URL;VALUE=URI:https://www.pedalejoyeuse.fr/evenements/2026/05/30/tinazzi-la-destrousse-peypin-cadolive-la-diote-greasque-fuveau-rousset-trets-le-juillet-la-pomme-roquevaire-tinazzi-2443831
END:VEVENT
BEGIN:VEVENT
SUMMARY:Sejour Remuzat
UID:31a58ff4-66e7-404a-b435-1bc69a4524ac
DTSTART:20260605T220000Z
DTEND:20260613T220000Z
LOCATION:Localisation club des lavandes  Remuzat
CATEGORIES:Sportif
STATUS:
URL;VALUE=URI:https://www.pedalejoyeuse.fr/evenements/2026/06/06/sejour-remuzat-2414437
END:VEVENT
BEGIN:VEVENT
SUMMARY:La guillaumoise
UID:aa3fb283-f051-4776-a094-3ce6384ff17f
DTSTART:20260606T220000Z
DTEND:20260607T220000Z
LOCATION:Localisation   
CATEGORIES:Sportif
STATUS:
URL;VALUE=URI:https://www.pedalejoyeuse.fr/evenements/2026/06/07/la-guillaumoise-2416283
END:VEVENT
END:VCALENDAR
